BEGIN:VCALENDAR
VERSION:2.0
PRODID:-//162.241.225.39//NONSGML kigkonsult.se iCalcreator 2.20//
CALSCALE:GREGORIAN
METHOD:PUBLISH
X-WR-CALNAME:Bach Choir of Wellington
X-WR-CALDESC:
X-FROM-URL:http://bachchoirwellington.org.nz
X-WR-TIMEZONE:Pacific/Auckland
BEGIN:VTIMEZONE
TZID:Pacific/Auckland
X-LIC-LOCATION:Pacific/Auckland
BEGIN:STANDARD
DTSTART:20180401T030000
TZOFFSETFROM:+1300
TZOFFSETTO:+1200
TZNAME:NZST
END:STANDARD
BEGIN:DAYLIGHT
DTSTART:20170924T020000
TZOFFSETFROM:+1200
TZOFFSETTO:+1300
TZNAME:NZDT
END:DAYLIGHT
END:VTIMEZONE
BEGIN:VEVENT
UID:ai1ec-593@bachchoirwellington.org.nz
DTSTAMP:20180121T124412Z
CATEGORIES;LANGUAGE=en-US:Performance
CONTACT:
DESCRIPTION:Our major concert for 2018\, the year of our 50th anniversary —
  time and ticket prices will be added closer to the concert date.
DTSTART;TZID=Pacific/Auckland:20180513T000000
GEO:-41.276733;+174.775566
LOCATION:Sacred Heart Cathedral @ 40 Hill St\, Thorndon\, Wellington 6011\,
  New Zealand
SEQUENCE:0
SUMMARY:Mass in B minor
URL:http://bachchoirwellington.org.nz/event/mass-in-b-minor/
X-COST-TYPE:free
X-ALT-DESC;FMTTYPE=text/html:<!DOCTYPE HTML PUBLIC '-//W3C//DTD HTML 3.2//E
 N'>\\n<HTML>\\n<HEAD>\\n<TITLE></TITLE>\\n</HEAD>\\n<BODY><p>Our major con
 cert for 2018\, the year of our 50th anniversary — time and ticket prices 
 will be added closer to the concert date.</p>\n</BODY></HTML>
X-INSTANT-EVENT:1
END:VEVENT
END:VCALENDAR
