BEGIN:VCALENDAR
VERSION:2.0
PRODID:-//162.241.225.39//NONSGML kigkonsult.se iCalcreator 2.20//
CALSCALE:GREGORIAN
METHOD:PUBLISH
X-WR-CALNAME:Bach Choir of Wellington
X-WR-CALDESC:
X-FROM-URL:http://bachchoirwellington.org.nz
X-WR-TIMEZONE:Pacific/Auckland
BEGIN:VTIMEZONE
TZID:Pacific/Auckland
X-LIC-LOCATION:Pacific/Auckland
BEGIN:STANDARD
DTSTART:20180401T030000
TZOFFSETFROM:+1300
TZOFFSETTO:+1200
TZNAME:NZST
END:STANDARD
BEGIN:DAYLIGHT
DTSTART:20170924T020000
TZOFFSETFROM:+1200
TZOFFSETTO:+1300
TZNAME:NZDT
END:DAYLIGHT
END:VTIMEZONE
BEGIN:VEVENT
UID:ai1ec-565@bachchoirwellington.org.nz
DTSTAMP:20180121T125652Z
CATEGORIES;LANGUAGE=en-US:Fundraiser
CONTACT:admin@bachchoirwellington.org.nz
DESCRIPTION:Doors open at 5pm\; movie starts at 5:30pm.\nTickets $20 (inclu
 des a glass of wine)\nUpdate: Sunday 12th\, not Saturday 11th as stated pr
 eviously.
DTSTART;TZID=Pacific/Auckland:20171112T170000
GEO:-41.305858;+174.763585
LOCATION:Penthouse Cinema @ 205 Ohiro Rd\, Brooklyn\, Wellington 6021\, New
  Zealand
SEQUENCE:0
SUMMARY:Movie Night Fundraiser 2017
URL:http://bachchoirwellington.org.nz/event/movie-night-fundraiser-2017/
X-COST-TYPE:external
X-ALT-DESC;FMTTYPE=text/html:<!DOCTYPE HTML PUBLIC '-//W3C//DTD HTML 3.2//E
 N'>\\n<HTML>\\n<HEAD>\\n<TITLE></TITLE>\\n</HEAD>\\n<BODY><p>Doors open at
  5pm\; movie starts at 5:30pm.<br />\nTickets $20 (includes a glass of win
 e)<br />\nUpdate: Sunday 12th\, not Saturday 11th as stated previously. </
 p>\n</BODY></HTML>
X-COST:$20
X-INSTANT-EVENT:1
END:VEVENT
END:VCALENDAR
