BEGIN:VCALENDAR
VERSION:2.0
PRODID:-//162.241.225.39//NONSGML kigkonsult.se iCalcreator 2.20//
CALSCALE:GREGORIAN
METHOD:PUBLISH
X-WR-CALNAME:Bach Choir of Wellington
X-WR-CALDESC:
X-FROM-URL:http://bachchoirwellington.org.nz
X-WR-TIMEZONE:Pacific/Auckland
BEGIN:VTIMEZONE
TZID:Pacific/Auckland
X-LIC-LOCATION:Pacific/Auckland
BEGIN:STANDARD
DTSTART:20180401T030000
TZOFFSETFROM:+1300
TZOFFSETTO:+1200
TZNAME:NZST
END:STANDARD
BEGIN:DAYLIGHT
DTSTART:20170924T020000
TZOFFSETFROM:+1200
TZOFFSETTO:+1300
TZNAME:NZDT
END:DAYLIGHT
END:VTIMEZONE
BEGIN:VEVENT
UID:ai1ec-448@bachchoirwellington.org.nz
DTSTAMP:20180121T125321Z
CATEGORIES;LANGUAGE=en-US:Members
CONTACT:
DESCRIPTION:Directions: \nHead North to Porirua\nAt the Porirua Roundabout\
 , take the 3rd exit to Porirua East/Cannons Creek\nAt the next roundabout 
 (Z petrol station) take 1st exit into Champion Street\nKeep going until yo
 u get to another roundabout\, go straight through onto Warspite Ave\nTake 
 1st right into Driver Crescent\nGo past Brandon Intermediate on your right
 \nImmediately after Maraeroa School on your left\, turn right up the drive
 way into Porirua College.\nFollow the drive up and veer left so you go pas
 t the Admin Block\nPark in the back carpark.\nMusic Department backs onto 
 the Admin Block/Hall\nWhat to bring:\nLunch\nWater bottle\nPencil\nMusic (
 bring everything including the music for the second concert)\nTea/coffee w
 ill be provided.
DTSTART;TZID=Pacific/Auckland:20160319T100000
DTEND;TZID=Pacific/Auckland:20160319T150000
GEO:-41.140982;+174.874359
LOCATION:Porirua College @ 64 Driver Cres\, Cannons Creek\, Porirua 5024\, 
 New Zealand
SEQUENCE:0
SUMMARY:Choir Camp 2016
URL:http://bachchoirwellington.org.nz/event/choir-camp-2016/
X-COST-TYPE:free
X-ALT-DESC;FMTTYPE=text/html:<!DOCTYPE HTML PUBLIC '-//W3C//DTD HTML 3.2//E
 N'>\\n<HTML>\\n<HEAD>\\n<TITLE></TITLE>\\n</HEAD>\\n<BODY><p><strong>Direc
 tions: </strong><br />\nHead North to Porirua<br />\nAt the Porirua Rounda
 bout\, take the 3rd exit to Porirua East/Cannons Creek<br />\nAt the next 
 roundabout (Z petrol station) take 1st exit into Champion Street<br />\nKe
 ep going until you get to another roundabout\, go straight through onto Wa
 rspite Ave<br />\nTake 1st right into Driver Crescent<br />\nGo past Brand
 on Intermediate on your right<br />\nImmediately after Maraeroa School on 
 your left\, turn right up the driveway into Porirua College.<br />\nFollow
  the drive up and veer left so you go past the Admin Block<br />\nPark in 
 the back carpark.<br />\nMusic Department backs onto the Admin Block/Hall<
 /p>\n<p><strong>What to bring:</strong><br />\nLunch<br />\nWater bottle<b
 r />\nPencil<br />\nMusic (bring everything including the music for the se
 cond concert)</p>\n<p>Tea/coffee will be provided.</p>\n</BODY></HTML>
END:VEVENT
END:VCALENDAR
