BEGIN:VCALENDAR
VERSION:2.0
PRODID:-//162.241.225.39//NONSGML kigkonsult.se iCalcreator 2.20//
CALSCALE:GREGORIAN
METHOD:PUBLISH
X-FROM-URL:http://bachchoirwellington.org.nz
X-WR-TIMEZONE:Pacific/Auckland
BEGIN:VTIMEZONE
TZID:Pacific/Auckland
X-LIC-LOCATION:Pacific/Auckland
BEGIN:STANDARD
DTSTART:20180401T030000
TZOFFSETFROM:+1300
TZOFFSETTO:+1200
TZNAME:NZST
END:STANDARD
BEGIN:DAYLIGHT
DTSTART:20170924T020000
TZOFFSETFROM:+1200
TZOFFSETTO:+1300
TZNAME:NZDT
END:DAYLIGHT
END:VTIMEZONE
BEGIN:VEVENT
UID:ai1ec-269@bachchoirwellington.org.nz
DTSTAMP:20180121T125712Z
CATEGORIES;LANGUAGE=en-US:Members rehearsal
CONTACT:
DESCRIPTION:<p><a href='http://bachchoirwellington.org.nz/wp-content/upload
 s/2015/01/Bach-St-Matthew-Passion-Choir-schedule-version-1.pdf'>Bach St Ma
 tthew Passion Choir schedule version 1</a></p>
DTSTART;TZID=Pacific/Auckland:20150126T183000
DTEND;TZID=Pacific/Auckland:20150126T213000
GEO:-41.28646;+174.776236
LOCATION:St Andrews on The Terrace @ Wellington\, New Zealand
RRULE:FREQ=WEEKLY;UNTIL=20150310T235959Z
SEQUENCE:0
SUMMARY:
URL:http://bachchoirwellington.org.nz/event/269/
END:VEVENT
BEGIN:VEVENT
UID:ai1ec-453@bachchoirwellington.org.nz
DTSTAMP:20180121T125712Z
CATEGORIES;LANGUAGE=en-US:Members\,Members rehearsal
CONTACT:
DESCRIPTION:<p>St Andrews on the terrace</p>
DTSTART;TZID=Pacific/Auckland:20160509T190000
SEQUENCE:0
SUMMARY:Penultimate rehersal
URL:http://bachchoirwellington.org.nz/event/penultimate-rehersal-2016-1/
X-COST-TYPE:free
X-INSTANT-EVENT:1
END:VEVENT
BEGIN:VEVENT
UID:ai1ec-454@bachchoirwellington.org.nz
DTSTAMP:20180121T125712Z
CATEGORIES;LANGUAGE=en-US:Members\,Members rehearsal
CONTACT:
DESCRIPTION:<p>Rescheduled dress rehersal at St Peters on Willis St</p>
DTSTART;TZID=Pacific/Auckland:20160514T133000
SEQUENCE:0
SUMMARY:Dress Rehersal
URL:http://bachchoirwellington.org.nz/event/dress-rehersal-2016-1/
X-COST-TYPE:free
X-INSTANT-EVENT:1
END:VEVENT
BEGIN:VEVENT
UID:ai1ec-538@bachchoirwellington.org.nz
DTSTAMP:20180121T125712Z
CATEGORIES;LANGUAGE=en-US:Members rehearsal
CONTACT:
DESCRIPTION:<p>The Monday May 8th rehearsal has been moved to Tuesday the 9
 th\, St Andrews on the Terrace\, 7pm.</p>
DTSTART;TZID=Pacific/Auckland:20170509T190000
DTEND;TZID=Pacific/Auckland:20170509T210000
GEO:-41.279952;+174.775281
LOCATION:St Andrews on the Terrace @ 30 The Terrace\, Wellington\, 6011\, N
 ew Zealand
SEQUENCE:0
SUMMARY:Rescheduled Rehearsal
URL:http://bachchoirwellington.org.nz/event/rescheduled-rehearsal/
X-COST-TYPE:free
END:VEVENT
BEGIN:VEVENT
UID:ai1ec-540@bachchoirwellington.org.nz
DTSTAMP:20180121T125712Z
CATEGORIES;LANGUAGE=en-US:Members rehearsal
CONTACT:
DESCRIPTION:<p>Dress rehearsal for the <em>Vivaldi and Bachs</em> concert.<
 /p>
DTSTART;TZID=Pacific/Auckland:20170513T143000
DTEND;TZID=Pacific/Auckland:20170513T170000
GEO:-41.279952;+174.775281
LOCATION:St Andrews on the Terrace @ 30 The Terrace\, Wellington\, 6011\, N
 ew Zealand
SEQUENCE:0
SUMMARY:Dress Rehearsal
URL:http://bachchoirwellington.org.nz/event/dress-rehearsal/
X-COST-TYPE:free
END:VEVENT
BEGIN:VEVENT
UID:ai1ec-555@bachchoirwellington.org.nz
DTSTAMP:20180121T125712Z
CATEGORIES;LANGUAGE=en-US:Members rehearsal
CONTACT:
DESCRIPTION:<p>Rehearsal starts at 2pm\; please arrive at 1:45pm for warmin
 g up. </p>
DTSTART;TZID=Pacific/Auckland:20170916T134500
LOCATION:St Andrews on the Terrace
SEQUENCE:0
SUMMARY:Dress rehearsal – mid year concert 2017
URL:http://bachchoirwellington.org.nz/event/dress-rehearsal-mid-year-concer
 t-2017/
X-COST-TYPE:free
X-INSTANT-EVENT:1
END:VEVENT
BEGIN:VEVENT
UID:ai1ec-591@bachchoirwellington.org.nz
DTSTAMP:20180121T125712Z
CATEGORIES;LANGUAGE=en-US:Members rehearsal
CONTACT:
DESCRIPTION:<p>Rehearsal with soloists begins 6:30pm sharp. Note: <em>not</
 em> St Andrews but at St Peter’s on Willis Street.</p>
DTSTART;TZID=Pacific/Auckland:20171204T183000
GEO:-41.292273;+174.773285
LOCATION:St Peter's on Willis @ 211 Willis St\, Te Aro\, Wellington 6011\, 
 New Zealand
SEQUENCE:0
SUMMARY:Penultimate rehearsal – end of year concert 2017
URL:http://bachchoirwellington.org.nz/event/penultimate-rehearsal-end-of-ye
 ar-concert-2017/
X-COST-TYPE:free
X-INSTANT-EVENT:1
END:VEVENT
BEGIN:VEVENT
UID:ai1ec-563@bachchoirwellington.org.nz
DTSTAMP:20180121T125712Z
CATEGORIES;LANGUAGE=en-US:Members rehearsal
CONTACT:
DESCRIPTION:<p>Call time 2:30 — rehearsal starts 3pm.</p>
DTSTART;TZID=Pacific/Auckland:20171209T143000
GEO:-41.292273;+174.773285
LOCATION:St Peter's on Willis @ 211 Willis St\, Te Aro\, Wellington 6011\, 
 New Zealand
SEQUENCE:0
SUMMARY:Dress rehearsal – end of year concert 2017
URL:http://bachchoirwellington.org.nz/event/dress-rehearsal-end-of-year-con
 cert-2017/
X-COST-TYPE:free
X-INSTANT-EVENT:1
END:VEVENT
END:VCALENDAR
